BEGIN:VCALENDAR
VERSION:2.0
PRODID:-//lightbulb/agenda//NONSGML v1.0//EN
X-WR-CALNAME:The Real Gala
CALSCALE:GREGORIAN
BEGIN:VEVENT
DTSTAMP:20260422T160052
UID:ddfc98cfb880c8cb71e2e34921104abc
DTSTART;TZID=/Etc/UTC:20260516T193000
DTEND;TZID=/Etc/UTC:20260516T193000
SUMMARY:The Real Gala
URL:https://bettembourg.lu/events/the-real-gala/?schedule=92040-92674415
DESCRIPTION:
LOCATION:8, rue de l’École L-3341 Huncherange
END:VEVENT
END:VCALENDAR