BEGIN:VCALENDAR
VERSION:2.0
PRODID:-//lightbulb/agenda//NONSGML v1.0//EN
X-WR-CALNAME:Soirée auberge espagnole
CALSCALE:GREGORIAN
BEGIN:VEVENT
DTSTAMP:20260422T191812
UID:9c8ec92cd5745a1826097d772de2de4f
DTSTART;TZID=/Etc/UTC:20260424T190000
DTEND;TZID=/Etc/UTC:20260424T190000
SUMMARY:Soirée auberge espagnole
URL:https://bettembourg.lu/events/soiree-auberge-espagnole/?schedule=69426-fdb088bf
DESCRIPTION:
LOCATION:100 Rue Charles Jacquinot, 3241 Bettembourg, Luxembourg
END:VEVENT
END:VCALENDAR